BEGIN:VCALENDAR
VERSION:2.0
PRODID:-//ChamberMaster//Event Calendar 2.0//EN
METHOD:PUBLISH
X-PUBLISHED-TTL:P1H
REFRESH-INTERVAL:P1H
CALSCALE:GREGORIAN
BEGIN:VTIMEZONE
TZID:America/New_York
BEGIN:DAYLIGHT
RRULE:FREQ=YEARLY;BYMONTH=3;BYDAY=2SU
DTSTART:20070101T000000
TZOFFSETFROM:-0500
TZOFFSETTO:-0400
TZNAME:Eastern Daylight Time
END:DAYLIGHT
BEGIN:STANDARD
RRULE:FREQ=YEARLY;BYMONTH=11;BYDAY=1SU
DTSTART:20070101T000000
TZOFFSETFROM:-0400
TZOFFSETTO:-0500
TZNAME:Eastern Standard Time
END:STANDARD
END:VTIMEZONE
BEGIN:VEVENT
DTSTART;TZID=America/New_York:20260416T120000
DTEND;TZID=America/New_York:20260416T130000
X-MICROSOFT-CDO-ALLDAYEVENT:FALSE
SUMMARY:Lunch & Learn: "Plan Today\, Thrive Tomorrow" with Joel Griffiths
DESCRIPTION:Join us for an informative Lunch & Learn session\, led by Financial Advisor Joel Griffiths. This session will provide a clear\, high-level overview of retirement plan options available to business owners and employers\, including 401(k)s and various IRA options like SEP\, SIMPLE\, traditional\, and Roth IRAs. It will be designed to help you understand what’s out there and how you can use these tools to support your own financial future while also offering valuable benefits to your team.\n\nThis Lunch and Learn is designed to help business owners and employers better understand the range of options available and how these tools can be strategically leveraged to support both their own financial goals and those of their employees.\n\nWhether you're looking to establish a plan or optimize an existing one\, this session will provide valuable insights in a clear and accessible format.
X-ALT-DESC;FMTTYPE=text/html:Join us for an informative Lunch & Learn session\, led by Financial Advisor Joel Griffiths. This session will provide a clear\, high-level overview of retirement plan options available to business owners and employers\, including 401(k)s and various IRA options like SEP\, SIMPLE\, traditional\, and Roth IRAs. It will be designed to help you understand what’s out there and how you can use these tools to support your own financial future while also offering valuable benefits to your team.\n\nThis Lunch and Learn is designed to help business owners and employers better understand the range of options available and how these tools can be strategically leveraged to support both their own financial goals and those of their employees.\n\nWhether you're looking to establish a plan or optimize an existing one\, this session will provide valuable insights in a clear and accessible format.
LOCATION:154 N. Main St. Bluffton OH 45817
UID:e.3234.1434543
SEQUENCE:3
DTSTAMP:20260419T180059Z
URL:https://members.blufftonareachamber.com/eventcalendar/Details/lunch-learn-plan-today-thrive-tomorrow-with-joel-griffiths-1698083?sourceTypeId=Hub
END:VEVENT
END:VCALENDAR
